BEGIN:VCALENDAR
VERSION:2.0
PRODID:-//Plone.org//NONSGML plone.app.event//EN
X-WR-TIMEZONE:Europe/Madrid
BEGIN:VEVENT
SUMMARY:Ball de Cap d'Any
DTSTART;TZID=Europe/Madrid;VALUE=DATE-TIME:20250101T010000
DTEND;TZID=Europe/Madrid;VALUE=DATE-TIME:20250101T020000
DTSTAMP;VALUE=DATE-TIME:20260421T124046Z
UID:ea6e4eb51be039e4fad7f45eca6fbb99
CREATED;VALUE=DATE-TIME:20250101T000000Z
CATEGORIES:Festa,Música
LOCATION:Envelat de Vil·la Flora
ORGANIZER:Àrea de Festes
COMMENT:Durada: A
DESCRIPTION:Amb DJ Litus
URL:https://www.canetdemar.cat/document.php?id=26675
END:VEVENT
END:VCALENDAR