BEGIN:VCALENDAR
VERSION:2.0
PRODID:-//Plone.org//NONSGML plone.app.event//EN
X-WR-TIMEZONE:Europe/Madrid
BEGIN:VEVENT
SUMMARY:Recital d'Òpera
DTSTART;TZID=Europe/Madrid;VALUE=DATE-TIME:20241229T183000
DTEND;TZID=Europe/Madrid;VALUE=DATE-TIME:20241229T193000
DTSTAMP;VALUE=DATE-TIME:20260424T114202Z
UID:857b59ebc1f1f2adb450c5e1b86820ca
CREATED;VALUE=DATE-TIME:20241229T000000Z
CATEGORIES:Música
LOCATION:TCM Sala Odèon
ORGANIZER:Àrea de Cultura
DESCRIPTION:En benefici de GEA XXI
URL:https://www.canetdemar.cat/document.php?id=26672
END:VEVENT
END:VCALENDAR