BEGIN:VCALENDAR
VERSION:2.0
PRODID:-//Plone.org//NONSGML plone.app.event//EN
X-WR-TIMEZONE:Europe/Madrid
BEGIN:VEVENT
SUMMARY:Concert de Nadal
DTSTART;TZID=Europe/Madrid;VALUE=DATE-TIME:20241222T180000
DTEND;TZID=Europe/Madrid;VALUE=DATE-TIME:20241222T190000
DTSTAMP;VALUE=DATE-TIME:20260423T114818Z
UID:3776f4a0a2ee24970302adce6a0d1e50
CREATED;VALUE=DATE-TIME:20241222T000000Z
CATEGORIES:Música
LOCATION:Església Parroquial de Canet de Mar
URL:https://www.canetdemar.cat/document.php?id=26661
END:VEVENT
END:VCALENDAR