BEGIN:VCALENDAR
VERSION:2.0
PRODID:-//Plone.org//NONSGML plone.app.event//EN
X-WR-TIMEZONE:Europe/Madrid
BEGIN:VEVENT
SUMMARY:Galet Rock
DTSTART;TZID=Europe/Madrid;VALUE=DATE-TIME:20241214T203000
DTEND;TZID=Europe/Madrid;VALUE=DATE-TIME:20241214T213000
DTSTAMP;VALUE=DATE-TIME:20260424T114923Z
UID:0df0a6eec4cb9637548c77ef67c37767
CREATED;VALUE=DATE-TIME:20241214T000000Z
CATEGORIES:Música
LOCATION:Riera Sant Domènec
ORGANIZER:Àrea de Cultura
DESCRIPTION:Actuacions de Las Sofocos, Death Lust i Ghidorah
URL:https://www.canetdemar.cat/document.php?id=26648
END:VEVENT
END:VCALENDAR