BEGIN:VCALENDAR
VERSION:2.0
PRODID:-//Plone.org//NONSGML plone.app.event//EN
X-WR-TIMEZONE:Europe/Madrid
BEGIN:VEVENT
SUMMARY:Junta de Govern Local
DTSTART;TZID=Europe/Madrid;VALUE=DATE-TIME:20241128T170000
DTEND;TZID=Europe/Madrid;VALUE=DATE-TIME:20241128T180000
DTSTAMP;VALUE=DATE-TIME:20260422T203745Z
UID:9a68e3bcc205765d05e689923dab1a4a
CREATED;VALUE=DATE-TIME:20241128T000000Z
CATEGORIES:Agenda institucional
LOCATION:Sala annexa Alcaldia
URL:https://www.canetdemar.cat/document.php?id=26631
END:VEVENT
END:VCALENDAR