BEGIN:VCALENDAR
VERSION:2.0
PRODID:-//Plone.org//NONSGML plone.app.event//EN
X-WR-TIMEZONE:Europe/Madrid
BEGIN:VEVENT
SUMMARY:Reunió amb un treballador municipal
DTSTART;TZID=Europe/Madrid;VALUE=DATE-TIME:20241126T120000
DTEND;TZID=Europe/Madrid;VALUE=DATE-TIME:20241126T130000
DTSTAMP;VALUE=DATE-TIME:20260421T192323Z
UID:6d9bef5c32cffc121bc81355de6ad2a5
CREATED;VALUE=DATE-TIME:20241126T000000Z
CATEGORIES:Agenda institucional
LOCATION:Despatx de l'alcaldia
URL:https://www.canetdemar.cat/document.php?id=26628
END:VEVENT
END:VCALENDAR