BEGIN:VCALENDAR
VERSION:2.0
PRODID:-//Plone.org//NONSGML plone.app.event//EN
X-WR-TIMEZONE:Europe/Madrid
BEGIN:VEVENT
SUMMARY:Assistència a l'entrega de premis de la Mostra Literària del Maresme
DTSTART;TZID=Europe/Madrid;VALUE=DATE-TIME:20241124T120000
DTEND;TZID=Europe/Madrid;VALUE=DATE-TIME:20241124T130000
DTSTAMP;VALUE=DATE-TIME:20260424T024508Z
UID:93156bcba0f4bbf3202507f44ccaab45
CREATED;VALUE=DATE-TIME:20241124T000000Z
CATEGORIES:Agenda institucional
LOCATION:Teatre Espai La Amistat de Premià de Mar
URL:https://www.canetdemar.cat/document.php?id=26625
END:VEVENT
END:VCALENDAR