BEGIN:VCALENDAR
VERSION:2.0
PRODID:-//Plone.org//NONSGML plone.app.event//EN
X-WR-TIMEZONE:Europe/Madrid
BEGIN:VEVENT
SUMMARY:Reunió amb ADIF
DTSTART;TZID=Europe/Madrid;VALUE=DATE-TIME:20241122T120000
DTEND;TZID=Europe/Madrid;VALUE=DATE-TIME:20241122T130000
DTSTAMP;VALUE=DATE-TIME:20260423T120713Z
UID:86869147fe3b8d2dd8dc5a341a16ff2f
CREATED;VALUE=DATE-TIME:20241122T000000Z
CATEGORIES:Agenda institucional
LOCATION:Despatx de l'alcaldia - Reunió virtual a través de la plataforma Zoom
URL:https://www.canetdemar.cat/document.php?id=26622
END:VEVENT
END:VCALENDAR