BEGIN:VCALENDAR
VERSION:2.0
PRODID:-//Plone.org//NONSGML plone.app.event//EN
X-WR-TIMEZONE:Europe/Madrid
BEGIN:VEVENT
SUMMARY:Encesa de llums de Nadal als principals carrers de Canet de Mar
DTSTART;TZID=Europe/Madrid;VALUE=DATE-TIME:20241205T180000
DTEND;TZID=Europe/Madrid;VALUE=DATE-TIME:20241205T190000
DTSTAMP;VALUE=DATE-TIME:20260423T185559Z
UID:688511a9c961a6147ce007046014b5fe
CREATED;VALUE=DATE-TIME:20241205T000000Z
CATEGORIES:Festa
LOCATION:Riera Sant Domènec
URL:https://www.canetdemar.cat/document.php?id=26607
END:VEVENT
END:VCALENDAR