BEGIN:VCALENDAR
VERSION:2.0
PRODID:-//Plone.org//NONSGML plone.app.event//EN
X-WR-TIMEZONE:Europe/Madrid
BEGIN:VEVENT
SUMMARY:Reunió amb una veïna de Canet
DTSTART;TZID=Europe/Madrid;VALUE=DATE-TIME:20241029T100000
DTEND;TZID=Europe/Madrid;VALUE=DATE-TIME:20241029T110000
DTSTAMP;VALUE=DATE-TIME:20260425T204953Z
UID:dca5813d9fef0ea892bc3dca9d7c98fd
CREATED;VALUE=DATE-TIME:20241029T000000Z
CATEGORIES:Agenda institucional
LOCATION:Despatx de l'alcaldia
URL:https://www.canetdemar.cat/document.php?id=26604
END:VEVENT
END:VCALENDAR