BEGIN:VCALENDAR
VERSION:2.0
PRODID:-//Plone.org//NONSGML plone.app.event//EN
X-WR-TIMEZONE:Europe/Madrid
BEGIN:VEVENT
SUMMARY:Reunió Patronat fundació Els Garrofers
DTSTART;TZID=Europe/Madrid;VALUE=DATE-TIME:20241030T200000
DTEND;TZID=Europe/Madrid;VALUE=DATE-TIME:20241030T210000
DTSTAMP;VALUE=DATE-TIME:20260425T210851Z
UID:b2ec3cc4218bda8c72428baafbf3ff3d
CREATED;VALUE=DATE-TIME:20241030T000000Z
CATEGORIES:Agenda institucional
URL:https://www.canetdemar.cat/document.php?id=26602
END:VEVENT
END:VCALENDAR