BEGIN:VCALENDAR
VERSION:2.0
PRODID:-//Plone.org//NONSGML plone.app.event//EN
X-WR-TIMEZONE:Europe/Madrid
BEGIN:VEVENT
SUMMARY:Presentació del Pla Local d'Habitatge
DTSTART;TZID=Europe/Madrid;VALUE=DATE-TIME:20241107T180000
DTEND;TZID=Europe/Madrid;VALUE=DATE-TIME:20241107T190000
DTSTAMP;VALUE=DATE-TIME:20260424T023246Z
UID:69756ce37a1366b3e9365dd6d50769d7
CREATED;VALUE=DATE-TIME:20241107T000000Z
CATEGORIES:Agenda institucional
LOCATION:Sala annexa Alcaldia
URL:https://www.canetdemar.cat/document.php?id=26592
END:VEVENT
END:VCALENDAR