BEGIN:VCALENDAR
VERSION:2.0
PRODID:-//Plone.org//NONSGML plone.app.event//EN
X-WR-TIMEZONE:Europe/Madrid
BEGIN:VEVENT
SUMMARY:Casament Civil
DTSTART;TZID=Europe/Madrid;VALUE=DATE-TIME:20241108T123000
DTEND;TZID=Europe/Madrid;VALUE=DATE-TIME:20241108T133000
DTSTAMP;VALUE=DATE-TIME:20260424T220424Z
UID:6fb4f8b2fb04c18fc1100f70f0e1490d
CREATED;VALUE=DATE-TIME:20241108T000000Z
CATEGORIES:Agenda institucional
LOCATION:Sala de plens
URL:https://www.canetdemar.cat/document.php?id=26589
END:VEVENT
END:VCALENDAR