BEGIN:VCALENDAR
VERSION:2.0
PRODID:-//Plone.org//NONSGML plone.app.event//EN
X-WR-TIMEZONE:Europe/Madrid
BEGIN:VEVENT
SUMMARY:Recepció representants del municipi de Canet Herault
DTSTART;TZID=Europe/Madrid;VALUE=DATE-TIME:20241114T120000
DTEND;TZID=Europe/Madrid;VALUE=DATE-TIME:20241114T130000
DTSTAMP;VALUE=DATE-TIME:20260426T032509Z
UID:513b6455005738e511d434d2bcdbe26a
CREATED;VALUE=DATE-TIME:20241114T000000Z
CATEGORIES:Agenda institucional
LOCATION:Sala de plens
URL:https://www.canetdemar.cat/document.php?id=26583
END:VEVENT
END:VCALENDAR