BEGIN:VCALENDAR
VERSION:2.0
PRODID:-//Plone.org//NONSGML plone.app.event//EN
X-WR-TIMEZONE:Europe/Madrid
BEGIN:VEVENT
SUMMARY:Reunió Interna
DTSTART;TZID=Europe/Madrid;VALUE=DATE-TIME:20241118T123000
DTEND;TZID=Europe/Madrid;VALUE=DATE-TIME:20241118T133000
DTSTAMP;VALUE=DATE-TIME:20260426T063800Z
UID:5e803bdc53c8e81b8bb59c6a5a74e31c
CREATED;VALUE=DATE-TIME:20241118T000000Z
CATEGORIES:Agenda institucional
LOCATION:Sala annexa Alcaldia
URL:https://www.canetdemar.cat/document.php?id=26570
END:VEVENT
END:VCALENDAR