BEGIN:VCALENDAR
VERSION:2.0
PRODID:-//Plone.org//NONSGML plone.app.event//EN
X-WR-TIMEZONE:Europe/Madrid
BEGIN:VEVENT
SUMMARY:Reunió i visita Sala Odèon del TMC
DTSTART;TZID=Europe/Madrid;VALUE=DATE-TIME:20241120T113000
DTEND;TZID=Europe/Madrid;VALUE=DATE-TIME:20241120T123000
DTSTAMP;VALUE=DATE-TIME:20260423T050443Z
UID:51907c484af358ebfca1d49d811ccbfa
CREATED;VALUE=DATE-TIME:20241120T000000Z
CATEGORIES:Agenda institucional
LOCATION:Despatx de l'alcaldia
URL:https://www.canetdemar.cat/document.php?id=26564
END:VEVENT
END:VCALENDAR