BEGIN:VCALENDAR
VERSION:2.0
PRODID:-//Plone.org//NONSGML plone.app.event//EN
X-WR-TIMEZONE:Europe/Madrid
BEGIN:VEVENT
SUMMARY:Vermut - Musical
DTSTART;TZID=Europe/Madrid;VALUE=DATE-TIME:20241026T120000
DTEND;TZID=Europe/Madrid;VALUE=DATE-TIME:20241026T130000
DTSTAMP;VALUE=DATE-TIME:20260424T010948Z
UID:a0716bcd818c36ffbe5c3fe6b1efe48d
CREATED;VALUE=DATE-TIME:20241026T000000Z
ORGANIZER:Associació Terra i Cel 
DESCRIPTION:Suspicious Band an Elvis Experience
URL:https://www.canetdemar.cat/document.php?id=26515
END:VEVENT
END:VCALENDAR