BEGIN:VCALENDAR
VERSION:2.0
PRODID:-//Plone.org//NONSGML plone.app.event//EN
X-WR-TIMEZONE:Europe/Madrid
BEGIN:VEVENT
SUMMARY:Exposició inmersiva 40 anys diables
DTSTART;TZID=Europe/Madrid;VALUE=DATE-TIME:20241103T000000
DTEND;TZID=Europe/Madrid;VALUE=DATE-TIME:20241103T010000
DTSTAMP;VALUE=DATE-TIME:20260423T053556Z
UID:002e2234f30e778214acfe1aa5aa7354
CREATED;VALUE=DATE-TIME:20241023T000000Z
CATEGORIES:Exposició,Festa
LOCATION:Sala Cultural Ramon de Capmany
ORGANIZER:Colla de diables de canet de mar
COMMENT:Preu: Gratuit
Durada: Entre setmana de 18.00 a 20.30h i dissabtes i diumenges de 10.00 a 13.00h i de 18.00 a 20:30h
URL:https://www.canetdemar.cat/document.php?id=26514
END:VEVENT
END:VCALENDAR