BEGIN:VCALENDAR
VERSION:2.0
PRODID:-//Plone.org//NONSGML plone.app.event//EN
X-WR-TIMEZONE:Europe/Madrid
BEGIN:VEVENT
SUMMARY:Vibració i Vida: Taller musical
DTSTART;TZID=Europe/Madrid;VALUE=DATE-TIME:20241122T173000
DTEND;TZID=Europe/Madrid;VALUE=DATE-TIME:20241122T183000
DTSTAMP;VALUE=DATE-TIME:20260425T223144Z
UID:0c8e50b61dd04ef0ee1098bbf9cbcf08
CREATED;VALUE=DATE-TIME:20241122T000000Z
CATEGORIES:Infantils,Música
LOCATION:Biblioteca P. Gual i Pujadas
ORGANIZER:Biblioteca P. Gual i Pujadas
COMMENT:Preu: Gratuït
URL:https://www.canetdemar.cat/document.php?id=26502
END:VEVENT
END:VCALENDAR