BEGIN:VCALENDAR
VERSION:2.0
PRODID:-//Plone.org//NONSGML plone.app.event//EN
X-WR-TIMEZONE:Europe/Madrid
BEGIN:VEVENT
SUMMARY:3r FOT-LI CASTANYA!
DTSTART;TZID=Europe/Madrid;VALUE=DATE-TIME:20030405T100000
DTEND;TZID=Europe/Madrid;VALUE=DATE-TIME:20030405T110000
DTSTAMP;VALUE=DATE-TIME:20260424T125331Z
UID:2cc5c050569354442e02da692485fe12
CREATED;VALUE=DATE-TIME:20030405T000000Z
DESCRIPTION:Visita al museu de la Minavella, de Vilassar de Mar
URL:https://www.canetdemar.cat/document.php?id=265
END:VEVENT
END:VCALENDAR