BEGIN:VCALENDAR
VERSION:2.0
PRODID:-//Plone.org//NONSGML plone.app.event//EN
X-WR-TIMEZONE:Europe/Madrid
BEGIN:VEVENT
SUMMARY:IronKids
DTSTART;TZID=Europe/Madrid;VALUE=DATE-TIME:20241116T000000
DTEND;TZID=Europe/Madrid;VALUE=DATE-TIME:20241116T010000
DTSTAMP;VALUE=DATE-TIME:20260423T000920Z
UID:58e65bb7c45c8035f91b75d0eec5e23c
CREATED;VALUE=DATE-TIME:20241116T000000Z
CATEGORIES:Esports
LOCATION:Passeig Maritim
URL:https://www.canetdemar.cat/document.php?id=26498
END:VEVENT
END:VCALENDAR