BEGIN:VCALENDAR
VERSION:2.0
PRODID:-//Plone.org//NONSGML plone.app.event//EN
X-WR-TIMEZONE:Europe/Madrid
BEGIN:VEVENT
SUMMARY:Ball a l'Envelat
DTSTART;TZID=Europe/Madrid;VALUE=DATE-TIME:20241110T183000
DTEND;TZID=Europe/Madrid;VALUE=DATE-TIME:20241110T193000
DTSTAMP;VALUE=DATE-TIME:20260423T132813Z
UID:3fff4b64309a2c4b8b6c4f0d56736d23
CREATED;VALUE=DATE-TIME:20241110T000000Z
CATEGORIES:Festa,Música
LOCATION:Envelat de Vil·la Flora
URL:https://www.canetdemar.cat/document.php?id=26495
END:VEVENT
END:VCALENDAR