BEGIN:VCALENDAR
VERSION:2.0
PRODID:-//Plone.org//NONSGML plone.app.event//EN
X-WR-TIMEZONE:Europe/Madrid
BEGIN:VEVENT
SUMMARY:Reunió amb una veïna de Canet
DTSTART;TZID=Europe/Madrid;VALUE=DATE-TIME:20241022T130000
DTEND;TZID=Europe/Madrid;VALUE=DATE-TIME:20241022T140000
DTSTAMP;VALUE=DATE-TIME:20260424T094449Z
UID:da59889df2a4eb1d574f4db44568536b
CREATED;VALUE=DATE-TIME:20241022T000000Z
CATEGORIES:Agenda institucional
LOCATION:Despatx de l'alcaldia
URL:https://www.canetdemar.cat/document.php?id=26490
END:VEVENT
END:VCALENDAR