BEGIN:VCALENDAR
VERSION:2.0
PRODID:-//Plone.org//NONSGML plone.app.event//EN
X-WR-TIMEZONE:Europe/Madrid
BEGIN:VEVENT
SUMMARY:Castanyada a l'envalat amb ball
DTSTART;TZID=Europe/Madrid;VALUE=DATE-TIME:20241103T170000
DTEND;TZID=Europe/Madrid;VALUE=DATE-TIME:20241103T180000
DTSTAMP;VALUE=DATE-TIME:20260422T053917Z
UID:b2d544bb171a282ae3dc9837bfe07db1
CREATED;VALUE=DATE-TIME:20241103T000000Z
CATEGORIES:Festa,Música
LOCATION:Envelat de Vil·la Flora
COMMENT:Durada: De 17.00 a 21.00h
URL:https://www.canetdemar.cat/document.php?id=26489
END:VEVENT
END:VCALENDAR