BEGIN:VCALENDAR
VERSION:2.0
PRODID:-//Plone.org//NONSGML plone.app.event//EN
X-WR-TIMEZONE:Europe/Madrid
BEGIN:VEVENT
SUMMARY:Assistència a la inauguració de l'experiència immersiva infernal de la Colla de Diables
DTSTART;TZID=Europe/Madrid;VALUE=DATE-TIME:20241020T203000
DTEND;TZID=Europe/Madrid;VALUE=DATE-TIME:20241020T213000
DTSTAMP;VALUE=DATE-TIME:20260426T032025Z
UID:a0d749414d64a8613348da9e9c7b4836
CREATED;VALUE=DATE-TIME:20241020T000000Z
CATEGORIES:Agenda institucional
LOCATION:Sala Cultural Ramon de Capmany
URL:https://www.canetdemar.cat/document.php?id=26484
END:VEVENT
END:VCALENDAR