BEGIN:VCALENDAR
VERSION:2.0
PRODID:-//Plone.org//NONSGML plone.app.event//EN
X-WR-TIMEZONE:Europe/Madrid
BEGIN:VEVENT
SUMMARY:Entrevista Catalunya Ràdio
DTSTART;TZID=Europe/Madrid;VALUE=DATE-TIME:20241016T110000
DTEND;TZID=Europe/Madrid;VALUE=DATE-TIME:20241016T120000
DTSTAMP;VALUE=DATE-TIME:20260424T144352Z
UID:31ed1fa6dba9a91a492b776e59388369
CREATED;VALUE=DATE-TIME:20241016T000000Z
CATEGORIES:Agenda institucional
LOCATION:Despatx de l'alcaldia
URL:https://www.canetdemar.cat/document.php?id=26477
END:VEVENT
END:VCALENDAR