BEGIN:VCALENDAR
VERSION:2.0
PRODID:-//Plone.org//NONSGML plone.app.event//EN
X-WR-TIMEZONE:Europe/Madrid
BEGIN:VEVENT
SUMMARY:Assistència a la presentació dels actes del Congrés Lluís Domèmench i Montaner
DTSTART;TZID=Europe/Madrid;VALUE=DATE-TIME:20241013T113000
DTEND;TZID=Europe/Madrid;VALUE=DATE-TIME:20241013T123000
DTSTAMP;VALUE=DATE-TIME:20260423T032324Z
UID:1bb5ab6191319df9ecf7601abdfc2b2d
CREATED;VALUE=DATE-TIME:20241013T000000Z
CATEGORIES:Agenda institucional
LOCATION:Pati de la Masia Rocosa. Casa Museu Lluís Domènech i Montaner
URL:https://www.canetdemar.cat/document.php?id=26438
END:VEVENT
END:VCALENDAR