BEGIN:VCALENDAR
VERSION:2.0
PRODID:-//Plone.org//NONSGML plone.app.event//EN
X-WR-TIMEZONE:Europe/Madrid
BEGIN:VEVENT
SUMMARY:Reunió amb un veí de Canet
DTSTART;TZID=Europe/Madrid;VALUE=DATE-TIME:20241010T120000
DTEND;TZID=Europe/Madrid;VALUE=DATE-TIME:20241010T130000
DTSTAMP;VALUE=DATE-TIME:20260426T032348Z
UID:4351ccbd922bf113987c1c3002d4c987
CREATED;VALUE=DATE-TIME:20241010T000000Z
CATEGORIES:Agenda institucional
LOCATION:Despatx de l'alcaldia
URL:https://www.canetdemar.cat/document.php?id=26437
END:VEVENT
END:VCALENDAR