BEGIN:VCALENDAR
VERSION:2.0
PRODID:-//Plone.org//NONSGML plone.app.event//EN
X-WR-TIMEZONE:Europe/Madrid
BEGIN:VEVENT
SUMMARY:Entrevista Espai Alcaldia
DTSTART;TZID=Europe/Madrid;VALUE=DATE-TIME:20240912T110000
DTEND;TZID=Europe/Madrid;VALUE=DATE-TIME:20240912T120000
DTSTAMP;VALUE=DATE-TIME:20260420T050235Z
UID:1a8fc7609947680eabf37f293233b58a
CREATED;VALUE=DATE-TIME:20240912T000000Z
CATEGORIES:Agenda institucional
LOCATION:Estudis de Ràdio Canet
URL:https://www.canetdemar.cat/document.php?id=26434
END:VEVENT
END:VCALENDAR