BEGIN:VCALENDAR
VERSION:2.0
PRODID:-//Plone.org//NONSGML plone.app.event//EN
X-WR-TIMEZONE:Europe/Madrid
BEGIN:VEVENT
SUMMARY:Junta de portaveus
DTSTART;TZID=Europe/Madrid;VALUE=DATE-TIME:20240919T190000
DTEND;TZID=Europe/Madrid;VALUE=DATE-TIME:20240919T200000
DTSTAMP;VALUE=DATE-TIME:20260421T144608Z
UID:abedd5465fbbc7b46410a391dfeb0dc2
CREATED;VALUE=DATE-TIME:20240919T000000Z
CATEGORIES:Agenda institucional
LOCATION:Sala de plens
URL:https://www.canetdemar.cat/document.php?id=26420
END:VEVENT
END:VCALENDAR