BEGIN:VCALENDAR
VERSION:2.0
PRODID:-//Plone.org//NONSGML plone.app.event//EN
X-WR-TIMEZONE:Europe/Madrid
BEGIN:VEVENT
SUMMARY:Reunió amb Consell Comarcal sobre l'organització d'activitats per a la Gent Gran
DTSTART;TZID=Europe/Madrid;VALUE=DATE-TIME:20240920T130000
DTEND;TZID=Europe/Madrid;VALUE=DATE-TIME:20240920T140000
DTSTAMP;VALUE=DATE-TIME:20260424T230315Z
UID:fbedc66e33c054a6fee796e1f78ca686
CREATED;VALUE=DATE-TIME:20240920T000000Z
CATEGORIES:Agenda institucional
LOCATION:Sala annexa Alcaldia
URL:https://www.canetdemar.cat/document.php?id=26414
END:VEVENT
END:VCALENDAR