BEGIN:VCALENDAR
VERSION:2.0
PRODID:-//Plone.org//NONSGML plone.app.event//EN
X-WR-TIMEZONE:Europe/Madrid
BEGIN:VEVENT
SUMMARY:Reunió de treball amb l'àrea d'Educació
DTSTART;TZID=Europe/Madrid;VALUE=DATE-TIME:20241003T090000
DTEND;TZID=Europe/Madrid;VALUE=DATE-TIME:20241003T100000
DTSTAMP;VALUE=DATE-TIME:20260419T190912Z
UID:7a40dfc12686772b01fc0a3543546939
CREATED;VALUE=DATE-TIME:20241003T000000Z
CATEGORIES:Agenda institucional
LOCATION:Sala annexa Alcaldia
URL:https://www.canetdemar.cat/document.php?id=26386
END:VEVENT
END:VCALENDAR