BEGIN:VCALENDAR
VERSION:2.0
PRODID:-//Plone.org//NONSGML plone.app.event//EN
X-WR-TIMEZONE:Europe/Madrid
BEGIN:VEVENT
SUMMARY:Assistència a la recepció i acte inaugural de la Fira Modernista
DTSTART;TZID=Europe/Madrid;VALUE=DATE-TIME:20241004T180000
DTEND;TZID=Europe/Madrid;VALUE=DATE-TIME:20241004T190000
DTSTAMP;VALUE=DATE-TIME:20260423T133112Z
UID:bf1883e89d3c436f488aa28668cecc0a
CREATED;VALUE=DATE-TIME:20241004T000000Z
CATEGORIES:Agenda institucional
LOCATION:Patí de l'Escola de Teixits
URL:https://www.canetdemar.cat/document.php?id=26385
END:VEVENT
END:VCALENDAR