BEGIN:VCALENDAR
VERSION:2.0
PRODID:-//Plone.org//NONSGML plone.app.event//EN
X-WR-TIMEZONE:Europe/Madrid
BEGIN:VEVENT
SUMMARY:Acompanyament a les persones vestides d'època pel recinte de la Fira Modernista
DTSTART;TZID=Europe/Madrid;VALUE=DATE-TIME:20241005T180000
DTEND;TZID=Europe/Madrid;VALUE=DATE-TIME:20241005T190000
DTSTAMP;VALUE=DATE-TIME:20260424T162606Z
UID:4a696a87478a6772f1ac81104180a051
CREATED;VALUE=DATE-TIME:20241005T000000Z
CATEGORIES:Agenda institucional
LOCATION:Plaça Macià
URL:https://www.canetdemar.cat/document.php?id=26382
END:VEVENT
END:VCALENDAR