BEGIN:VCALENDAR
VERSION:2.0
PRODID:-//Plone.org//NONSGML plone.app.event//EN
X-WR-TIMEZONE:Europe/Madrid
BEGIN:VEVENT
SUMMARY:Reunió amb representació de veïnes i veïns del carrer Clausell
DTSTART;TZID=Europe/Madrid;VALUE=DATE-TIME:20241007T093000
DTEND;TZID=Europe/Madrid;VALUE=DATE-TIME:20241007T103000
DTSTAMP;VALUE=DATE-TIME:20260424T203323Z
UID:927ad88790c53d7c640eea2ed55c5b8c
CREATED;VALUE=DATE-TIME:20241007T000000Z
CATEGORIES:Agenda institucional
LOCATION:Sala annexa Alcaldia
URL:https://www.canetdemar.cat/document.php?id=26379
END:VEVENT
END:VCALENDAR