BEGIN:VCALENDAR
VERSION:2.0
PRODID:-//Plone.org//NONSGML plone.app.event//EN
X-WR-TIMEZONE:Europe/Madrid
BEGIN:VEVENT
SUMMARY:Festival de patinatge artístic Vila de Canet
DTSTART;TZID=Europe/Madrid;VALUE=DATE-TIME:20061118T000000
DTEND;TZID=Europe/Madrid;VALUE=DATE-TIME:20061118T010000
DTSTAMP;VALUE=DATE-TIME:20260426T032439Z
UID:502938d712e1636a4e8b882b5e4cb87f
CREATED;VALUE=DATE-TIME:20061118T000000Z
CATEGORIES:Esports
LOCATION:Pavelló d'esports
ORGANIZER:Club Patinatge Artístic Canet
URL:https://www.canetdemar.cat/document.php?id=2637
END:VEVENT
END:VCALENDAR