BEGIN:VCALENDAR
VERSION:2.0
PRODID:-//Plone.org//NONSGML plone.app.event//EN
X-WR-TIMEZONE:Europe/Madrid
BEGIN:VEVENT
SUMMARY:Cercavila inicial d'animació musical "Esclat de música"
DTSTART;TZID=Europe/Madrid;VALUE=DATE-TIME:20241006T104500
DTEND;TZID=Europe/Madrid;VALUE=DATE-TIME:20241006T114500
DTSTAMP;VALUE=DATE-TIME:20260421T123701Z
UID:dae67148f76e3b7d3ac454d8112fdfe1
CREATED;VALUE=DATE-TIME:20241006T000000Z
CATEGORIES:Festa
LOCATION:Itinerant 
ORGANIZER:Àrea de Promoció Econòmica - Canet de Mar
DESCRIPTION:Activitat dins la Fira mercat Modernista
URL:https://www.canetdemar.cat/document.php?id=26353
END:VEVENT
END:VCALENDAR