BEGIN:VCALENDAR
VERSION:2.0
PRODID:-//Plone.org//NONSGML plone.app.event//EN
X-WR-TIMEZONE:Europe/Madrid
BEGIN:VEVENT
SUMMARY:Fins on arriba la memòria de Pere Anglas
DTSTART;TZID=Europe/Madrid;VALUE=DATE-TIME:20241018T163000
DTEND;TZID=Europe/Madrid;VALUE=DATE-TIME:20241018T173000
DTSTAMP;VALUE=DATE-TIME:20260424T083803Z
UID:7bc323438317f63c4c62fb7b5f8a9cb4
CREATED;VALUE=DATE-TIME:20241018T000000Z
CATEGORIES:Literatura
LOCATION:Biblioteca P. Gual i Pujadas
ORGANIZER:Biblioteca P. Gual i Pujadas
COMMENT:Preu: Gratuït
DESCRIPTION:Club de Lectura
URL:https://www.canetdemar.cat/document.php?id=26309
END:VEVENT
END:VCALENDAR