BEGIN:VCALENDAR
VERSION:2.0
PRODID:-//Plone.org//NONSGML plone.app.event//EN
X-WR-TIMEZONE:Europe/Madrid
BEGIN:VEVENT
SUMMARY:Sortida a l'Espluga de Francolí
DTSTART;TZID=Europe/Madrid;VALUE=DATE-TIME:20241019T073000
DTEND;TZID=Europe/Madrid;VALUE=DATE-TIME:20241019T083000
DTSTAMP;VALUE=DATE-TIME:20260423T001031Z
UID:fe09dea764d05d360cd8fdf9fc2e9799
CREATED;VALUE=DATE-TIME:20241019T000000Z
CATEGORIES:Visita guiada
LOCATION:Inscripcions a partir del día 2 d'octubre a Llibrería Gelebert
ORGANIZER:Salvia Associació de Dones
COMMENT:Preu: 34 euros Socies i parella i 47 euros No socis
Durada: Sortida de Canet a les 7.30. Tornada aproximadament 20 hores
DESCRIPTION:Excursió, visitarem diferents llocs molt interessants.
URL:https://www.canetdemar.cat/document.php?id=26303
END:VEVENT
END:VCALENDAR