BEGIN:VCALENDAR
VERSION:2.0
PRODID:-//Plone.org//NONSGML plone.app.event//EN
X-WR-TIMEZONE:Europe/Madrid
BEGIN:VEVENT
SUMMARY:Presentació de la Plataforma de Simbiosi Industrial de Catalunya
DTSTART;TZID=Europe/Madrid;VALUE=DATE-TIME:20240930T100000
DTEND;TZID=Europe/Madrid;VALUE=DATE-TIME:20240930T110000
DTSTAMP;VALUE=DATE-TIME:20260422T053514Z
UID:0d6cd9562f1ef133cff92884034f2b44
CREATED;VALUE=DATE-TIME:20240930T000000Z
LOCATION:En línia
COMMENT:Durada: De 10.00 a 13.00 hores
URL:https://www.canetdemar.cat/document.php?id=26293
END:VEVENT
END:VCALENDAR