BEGIN:VCALENDAR
VERSION:2.0
PRODID:-//Plone.org//NONSGML plone.app.event//EN
X-WR-TIMEZONE:Europe/Madrid
BEGIN:VEVENT
SUMMARY:Ballada de Sardanes
DTSTART;TZID=Europe/Madrid;VALUE=DATE-TIME:20240910T220000
DTEND;TZID=Europe/Madrid;VALUE=DATE-TIME:20240910T230000
DTSTAMP;VALUE=DATE-TIME:20260424T181137Z
UID:451dc0aaff7c36f238689471f5d5feaf
CREATED;VALUE=DATE-TIME:20240910T000000Z
CATEGORIES:Dansa
LOCATION:Riera Sant Domènec
ORGANIZER:Amics de la Sardana
URL:https://www.canetdemar.cat/document.php?id=26245
END:VEVENT
END:VCALENDAR