BEGIN:VCALENDAR
VERSION:2.0
PRODID:-//Plone.org//NONSGML plone.app.event//EN
X-WR-TIMEZONE:Europe/Madrid
BEGIN:VEVENT
SUMMARY:Vine a fer un mosaic de Lluís Domènech i Montaner
DTSTART;TZID=Europe/Madrid;VALUE=DATE-TIME:20241005T000000
DTEND;TZID=Europe/Madrid;VALUE=DATE-TIME:20241005T010000
DTSTAMP;VALUE=DATE-TIME:20260424T181107Z
UID:2c2904a87e2f2ec385ee64afc930a10e
CREATED;VALUE=DATE-TIME:20241004T000000Z
CATEGORIES:Cursos
LOCATION:Plaça Universitat
ORGANIZER:Centre d'Estudis Lluís Domènech i Montaner
COMMENT:Preu: 3 &euro; (inclou tot el material necessari)
Durada: De 10 h a 13 h i de 17 h a 20 h
DESCRIPTION:Activitat dins la Fira mercat Modernista
URL:https://www.canetdemar.cat/document.php?id=26241
END:VEVENT
END:VCALENDAR