BEGIN:VCALENDAR
VERSION:2.0
PRODID:-//Plone.org//NONSGML plone.app.event//EN
X-WR-TIMEZONE:Europe/Madrid
BEGIN:VEVENT
SUMMARY:Pares Normals, una comèdia musical
DTSTART;TZID=Europe/Madrid;VALUE=DATE-TIME:20241019T193000
DTEND;TZID=Europe/Madrid;VALUE=DATE-TIME:20241019T203000
DTSTAMP;VALUE=DATE-TIME:20260420T120120Z
UID:3bdbacdf9a07b7b2f465d99ff30c05fa
CREATED;VALUE=DATE-TIME:20241019T000000Z
CATEGORIES:Música,Teatre
LOCATION:TMC Sala Centru
ORGANIZER:Canet Cultural
COMMENT:Preu: 7&euro;
Durada: 2 hrs
URL:https://www.canetdemar.cat/document.php?id=26239
END:VEVENT
END:VCALENDAR