BEGIN:VCALENDAR
VERSION:2.0
PRODID:-//Plone.org//NONSGML plone.app.event//EN
X-WR-TIMEZONE:Europe/Madrid
BEGIN:VEVENT
SUMMARY:Ofici Solemne
DTSTART;TZID=Europe/Madrid;VALUE=DATE-TIME:20240908T120000
DTEND;TZID=Europe/Madrid;VALUE=DATE-TIME:20240908T130000
DTSTAMP;VALUE=DATE-TIME:20260422T203346Z
UID:70a45d364aa4a309ea856426f7513e57
CREATED;VALUE=DATE-TIME:20240908T000000Z
LOCATION:Santuari de la Mare de Déu de la Misericòrdia
DESCRIPTION:Festes de la Mare de Déu de la Misericòrdia
URL:https://www.canetdemar.cat/document.php?id=26226
END:VEVENT
END:VCALENDAR