BEGIN:VCALENDAR
VERSION:2.0
PRODID:-//Plone.org//NONSGML plone.app.event//EN
X-WR-TIMEZONE:Europe/Madrid
BEGIN:VEVENT
SUMMARY:Misa de la Festivitat
DTSTART;TZID=Europe/Madrid;VALUE=DATE-TIME:20240908T080000
DTEND;TZID=Europe/Madrid;VALUE=DATE-TIME:20240908T090000
DTSTAMP;VALUE=DATE-TIME:20260422T221849Z
UID:22923607864797dd9659bf4059198aea
CREATED;VALUE=DATE-TIME:20240908T000000Z
LOCATION:Santuari de la Mare de Déu de la Misericòrdia
DESCRIPTION:Festes de la Mare de Déu de la Misericòrdia
URL:https://www.canetdemar.cat/document.php?id=26223
END:VEVENT
END:VCALENDAR