BEGIN:VCALENDAR
VERSION:2.0
PRODID:-//Plone.org//NONSGML plone.app.event//EN
X-WR-TIMEZONE:Europe/Madrid
BEGIN:VEVENT
SUMMARY:Correfoc Infantil
DTSTART;TZID=Europe/Madrid;VALUE=DATE-TIME:20240907T223000
DTEND;TZID=Europe/Madrid;VALUE=DATE-TIME:20240907T233000
DTSTAMP;VALUE=DATE-TIME:20260424T023621Z
UID:7a6d18ffe9ea076faaf0ce692cb64c54
CREATED;VALUE=DATE-TIME:20240907T000000Z
CATEGORIES:Festa,Infantils
LOCATION:Carrers de Canet
ORGANIZER:Colla de diables de Canet de Mar i Area de Festes
COMMENT:Preu: gratuït
DESCRIPTION:Festes de la Mare de Déu de la Misericòrdia
URL:https://www.canetdemar.cat/document.php?id=26221
END:VEVENT
END:VCALENDAR