BEGIN:VCALENDAR
VERSION:2.0
PRODID:-//Plone.org//NONSGML plone.app.event//EN
X-WR-TIMEZONE:Europe/Madrid
BEGIN:VEVENT
SUMMARY:Reunió coordinació amb les àrees d'Alcaldia i Comunicació
DTSTART;TZID=Europe/Madrid;VALUE=DATE-TIME:20240902T093000
DTEND;TZID=Europe/Madrid;VALUE=DATE-TIME:20240902T103000
DTSTAMP;VALUE=DATE-TIME:20260425T124239Z
UID:8cb28483af98bf5c4882f0dc9ad8d9d8
CREATED;VALUE=DATE-TIME:20240902T000000Z
CATEGORIES:Agenda institucional
LOCATION:Despatx de l'alcaldia
URL:https://www.canetdemar.cat/document.php?id=26206
END:VEVENT
END:VCALENDAR