BEGIN:VCALENDAR
VERSION:2.0
PRODID:-//Plone.org//NONSGML plone.app.event//EN
X-WR-TIMEZONE:Europe/Madrid
BEGIN:VEVENT
SUMMARY:Reunió amb una veïna de Canet
DTSTART;TZID=Europe/Madrid;VALUE=DATE-TIME:20240828T090000
DTEND;TZID=Europe/Madrid;VALUE=DATE-TIME:20240828T100000
DTSTAMP;VALUE=DATE-TIME:20260424T025924Z
UID:64585c3057961f1d6ef815bf0f1004ab
CREATED;VALUE=DATE-TIME:20240828T000000Z
CATEGORIES:Agenda institucional
LOCATION:Despatx de l'alcaldia
URL:https://www.canetdemar.cat/document.php?id=26201
END:VEVENT
END:VCALENDAR