BEGIN:VCALENDAR
VERSION:2.0
PRODID:-//Plone.org//NONSGML plone.app.event//EN
X-WR-TIMEZONE:Europe/Madrid
BEGIN:VEVENT
SUMMARY:Raïm i formatge. Conte amb titelles amb la Laura Asensio
DTSTART;TZID=Europe/Madrid;VALUE=DATE-TIME:20241011T173000
DTEND;TZID=Europe/Madrid;VALUE=DATE-TIME:20241011T183000
DTSTAMP;VALUE=DATE-TIME:20260421T155909Z
UID:a6834dc7ac83ffca6d7d808e4dec7401
CREATED;VALUE=DATE-TIME:20241011T000000Z
CATEGORIES:Infantils
LOCATION:Biblioteca P. Gual i Pujadas
ORGANIZER:Biblioteca P. Gual i Pujadas
COMMENT:Preu: Gratuït
DESCRIPTION:Hora del conte
URL:https://www.canetdemar.cat/document.php?id=26173
END:VEVENT
END:VCALENDAR