BEGIN:VCALENDAR
VERSION:2.0
PRODID:-//Plone.org//NONSGML plone.app.event//EN
X-WR-TIMEZONE:Europe/Madrid
BEGIN:VEVENT
SUMMARY:Reunió amb el cap territorial del SEM
DTSTART;TZID=Europe/Madrid;VALUE=DATE-TIME:20240809T100000
DTEND;TZID=Europe/Madrid;VALUE=DATE-TIME:20240809T110000
DTSTAMP;VALUE=DATE-TIME:20260424T182743Z
UID:6e8a4573a9ef0fe1d2fba2d527f9d4e2
CREATED;VALUE=DATE-TIME:20240809T000000Z
CATEGORIES:Agenda institucional
LOCATION:Despatx de l'alcaldia
URL:https://www.canetdemar.cat/document.php?id=26162
END:VEVENT
END:VCALENDAR